BEGIN:VCALENDAR
VERSION:2.0
PRODID:icalendar-ruby
CALSCALE:GREGORIAN
METHOD:PUBLISH
BEGIN:VEVENT
DTSTAMP:20260422T221801Z
UID:6-642348@sharonbaptist.faith
DTSTART:20260819T230000Z
DTEND:20260820T000000Z
CLASS:PUBLIC
CREATED:20260422T171317
DESCRIPTION:Wednesday Prayer and Bible Study 7:00 pm\nPatch the Pirate Prog
 ram for Children 6:45 pm\nTeen's Ministry 7:00 pm\nNursery provided at all
  services.
LAST-MODIFIED:20260422T171317
LOCATION:2625 North Armistead Ave. Hampton\, VA 23666
SUMMARY:Wednesday Service
URL;VALUE=URI:https://www.sharonbaptist.faith/events/wednesday-service/2026
 -08-19
ATTACH;FILENAME=wednesday-prayer.jpeg;FMTTYPE=image/jpeg:https://dq5pwpg1q8
 ru0.cloudfront.net/2025/01/06/19/03/53/f250c399-7f78-4021-9b0e-2f8ac52734f
 6/wednesday-prayer.jpeg
END:VEVENT
END:VCALENDAR
